0.00000317719070
0.00000000000000
0.00000000000000
-0.00000274936310
-90.53125084656331
30.18749897352660
