0.00000317719070
0.00000000000000
0.00000000000000
-0.00000274936310
-90.09374850767360
30.31250092991450
