0.00000317719070
0.00000000000000
0.00000000000000
-0.00000274936310
-90.03124998941389
30.56250051659750
