0.00000317719070
0.00000000000000
0.00000000000000
-0.00000274936310
-90.24999956910889
30.53125125560290
