0.00000317719070
0.00000000000000
0.00000000000000
-0.00000274936310
-90.28125041683410
30.62499903858670
