0.00000317719070
0.00000000000000
0.00000000000000
-0.00000274936310
-90.34374898810351
30.53124909255650
