0.00000317719070
0.00000000000000
0.00000000000000
-0.00000274936310
-90.43750147826940
30.53125125560290
