0.00000317719070
0.00000000000000
0.00000000000000
-0.00000274936310
-90.18750105084919
30.74999883192820
