0.00000317719070
0.00000000000000
0.00000000000000
-0.00000274936310
-90.31250131756902
30.87499921158640
