0.5
0
0
-0.5
2497500.25
1387499.75
