0.5
0
0
-0.5
2510000.25
1329999.75
