0.5
0
0
-0.5
2520000.25
1324999.75
