0.5
0
0
-0.5
2495000.25
1322499.75
