0.5
0
0
-0.5
2452500.25
1319999.75
