0.5
0
0
-0.5
2522500.25
1317499.75
