0.5
0
0
-0.5
2450000.25
1307499.75
