0.5
0
0
-0.5
2502500.25
1307499.75
