0.5
0
0
-0.5
2517500.25
1307499.75
