0.5
0
0
-0.5
2527500.25
1307499.75
