0.5
0
0
-0.5
2445000.25
1304999.75
