0.5
0
0
-0.5
2552500.25
1299999.75
