0.5
0
0
-0.5
2442500.25
1297499.75
