0.5
0
0
-0.5
2515000.25
1297499.75
