0.5
0
0
-0.5
2467500.25
1294999.75
