0.5
0
0
-0.5
2477500.25
1292499.75
