0.5
0
0
-0.5
2525000.25
1292499.75
