0.5
0
0
-0.5
2540000.25
1289999.75
