0.5
0
0
-0.5
2472500.25
1267499.75
