0.5
0
0
-0.5
2507500.25
1267499.75
