0.5
0
0
-0.5
2560000.25
1267499.75
