0.5
0
0
-0.5
2512500.25
1257499.75
