0.5
0
0
-0.5
2487500.25
1252499.75
