1.600000
0.000000
-0.000000
-1.600000
205000.800000
49999.200000
