1.600000
0.000000
-0.000000
-1.600000
225000.800000
74999.200000
