1.600000
0.000000
-0.000000
-1.600000
230000.800000
104999.200000
