1.600000
0.000000
-0.000000
-1.600000
290000.800000
99999.200000
