1.600000
0.000000
-0.000000
-1.600000
310000.800000
19999.200000
