1.600000
0.000000
-0.000000
-1.600000
310000.800000
79999.200000
