1.600000
0.000000
-0.000000
-1.600000
315000.800000
69999.200000
