1.600000
0.000000
-0.000000
-1.600000
320000.800000
109999.200000
