1.600000
0.000000
-0.000000
-1.600000
375000.800000
199999.200000
