1.600000
0.000000
-0.000000
-1.600000
395000.800000
269999.200000
