1.600000
0.000000
-0.000000
-1.600000
410000.800000
224999.200000
