1.600000
0.000000
-0.000000
-1.600000
415000.800000
204999.200000
