1.600000
0.000000
-0.000000
-1.600000
420000.800000
249999.200000
