1.00000000000000000
0.00000000000000000
0.00000000000000000
-1.00000000000000000
467490.50000000000000000
3357509.50000000000000000
