1.00000000000000000
0.00000000000000000
0.00000000000000000
-1.00000000000000000
469990.50000000000000000
3367509.50000000000000000
