1.00000000000000000
0.00000000000000000
0.00000000000000000
-1.00000000000000000
474990.50000000000000000
3362509.50000000000000000
