1.00000000000000000
0.00000000000000000
0.00000000000000000
-1.00000000000000000
482490.50000000000000000
3372509.50000000000000000
