1.00000000000000000
0.00000000000000000
0.00000000000000000
-1.00000000000000000
492490.50000000000000000
3377509.50000000000000000
